BEGIN:VCALENDAR
VERSION:2.0
PRODID:-//Snoman - ECPv6.15.20//NONSGML v1.0//EN
CALSCALE:GREGORIAN
METHOD:PUBLISH
X-ORIGINAL-URL:https://snoman.mb.ca
X-WR-CALDESC:Events for Snoman
REFRESH-INTERVAL;VALUE=DURATION:PT1H
X-Robots-Tag:noindex
X-PUBLISHED-TTL:PT1H
BEGIN:VTIMEZONE
TZID:America/Winnipeg
BEGIN:DAYLIGHT
TZOFFSETFROM:-0600
TZOFFSETTO:-0500
TZNAME:CDT
DTSTART:20220313T080000
END:DAYLIGHT
BEGIN:STANDARD
TZOFFSETFROM:-0500
TZOFFSETTO:-0600
TZNAME:CST
DTSTART:20221106T070000
END:STANDARD
BEGIN:DAYLIGHT
TZOFFSETFROM:-0600
TZOFFSETTO:-0500
TZNAME:CDT
DTSTART:20230312T080000
END:DAYLIGHT
BEGIN:STANDARD
TZOFFSETFROM:-0500
TZOFFSETTO:-0600
TZNAME:CST
DTSTART:20231105T070000
END:STANDARD
BEGIN:DAYLIGHT
TZOFFSETFROM:-0600
TZOFFSETTO:-0500
TZNAME:CDT
DTSTART:20240310T080000
END:DAYLIGHT
BEGIN:STANDARD
TZOFFSETFROM:-0500
TZOFFSETTO:-0600
TZNAME:CST
DTSTART:20241103T070000
END:STANDARD
END:VTIMEZONE
BEGIN:VEVENT
DTSTART;TZID=America/Winnipeg:20230204T111500
DTEND;TZID=America/Winnipeg:20230204T133000
DTSTAMP:20260419T090537
CREATED:20230131T185835Z
LAST-MODIFIED:20230131T185835Z
UID:6486-1675509300-1675517400@snoman.mb.ca
SUMMARY:Victoria Beach Ladies Ride
DESCRIPTION:February 4\, 2023 \nLadies Ride \nMembers $10 Non-Members $20 \nStarts at 11:15 Traverse Bay Corner on Highway 59 in Traverse Bay \nEnds at Beaches Community Center in Victoria Beach
URL:https://snoman.mb.ca/event/victoria-beach-ladies-ride/
LOCATION:Traverse Bay Corner on Hwy 59
ORGANIZER;CN="Patti Ulrich":MAILTO:patti.ulrich@mymts.net
END:VEVENT
END:VCALENDAR