BEGIN:VCALENDAR
VERSION:2.0
PRODID:-//Snoman - ECPv6.15.20//NONSGML v1.0//EN
CALSCALE:GREGORIAN
METHOD:PUBLISH
X-ORIGINAL-URL:https://snoman.mb.ca
X-WR-CALDESC:Events for Snoman
REFRESH-INTERVAL;VALUE=DURATION:PT1H
X-Robots-Tag:noindex
X-PUBLISHED-TTL:PT1H
BEGIN:VTIMEZONE
TZID:America/Winnipeg
BEGIN:DAYLIGHT
TZOFFSETFROM:-0600
TZOFFSETTO:-0500
TZNAME:CDT
DTSTART:20250309T080000
END:DAYLIGHT
BEGIN:STANDARD
TZOFFSETFROM:-0500
TZOFFSETTO:-0600
TZNAME:CST
DTSTART:20251102T070000
END:STANDARD
BEGIN:DAYLIGHT
TZOFFSETFROM:-0600
TZOFFSETTO:-0500
TZNAME:CDT
DTSTART:20260308T080000
END:DAYLIGHT
BEGIN:STANDARD
TZOFFSETFROM:-0500
TZOFFSETTO:-0600
TZNAME:CST
DTSTART:20261101T070000
END:STANDARD
BEGIN:DAYLIGHT
TZOFFSETFROM:-0600
TZOFFSETTO:-0500
TZNAME:CDT
DTSTART:20270314T080000
END:DAYLIGHT
BEGIN:STANDARD
TZOFFSETFROM:-0500
TZOFFSETTO:-0600
TZNAME:CST
DTSTART:20271107T070000
END:STANDARD
END:VTIMEZONE
BEGIN:VEVENT
DTSTART;VALUE=DATE:20260228
DTEND;VALUE=DATE:20260301
DTSTAMP:20260423T110932
CREATED:20260122T193004Z
LAST-MODIFIED:20260122T193004Z
UID:7970-1772236800-1772323199@snoman.mb.ca
SUMMARY:Sled for Eternity - Adult & Teen Challenge Central Canada
DESCRIPTION:Flin Flon \nwww.teenchallenge.tc
URL:https://snoman.mb.ca/event/sled-for-eternity-adult-teen-challenge-central-canada-2/
END:VEVENT
BEGIN:VEVENT
DTSTART;TZID=America/Winnipeg:20260228T100000
DTEND;TZID=America/Winnipeg:20260228T173000
DTSTAMP:20260423T110932
CREATED:20260225T150738Z
LAST-MODIFIED:20260225T150738Z
UID:8079-1772272800-1772299800@snoman.mb.ca
SUMMARY:Log Cabin Riders Poker Derby
DESCRIPTION:
URL:https://snoman.mb.ca/event/log-cabin-riders-poker-derby/
END:VEVENT
END:VCALENDAR