BEGIN:VCALENDAR
VERSION:2.0
PRODID:-//Snoman - ECPv6.15.20//NONSGML v1.0//EN
CALSCALE:GREGORIAN
METHOD:PUBLISH
X-WR-CALNAME:Snoman
X-ORIGINAL-URL:https://snoman.mb.ca
X-WR-CALDESC:Events for Snoman
REFRESH-INTERVAL;VALUE=DURATION:PT1H
X-Robots-Tag:noindex
X-PUBLISHED-TTL:PT1H
BEGIN:VTIMEZONE
TZID:America/Winnipeg
BEGIN:DAYLIGHT
TZOFFSETFROM:-0600
TZOFFSETTO:-0500
TZNAME:CDT
DTSTART:20220313T080000
END:DAYLIGHT
BEGIN:STANDARD
TZOFFSETFROM:-0500
TZOFFSETTO:-0600
TZNAME:CST
DTSTART:20221106T070000
END:STANDARD
BEGIN:DAYLIGHT
TZOFFSETFROM:-0600
TZOFFSETTO:-0500
TZNAME:CDT
DTSTART:20230312T080000
END:DAYLIGHT
BEGIN:STANDARD
TZOFFSETFROM:-0500
TZOFFSETTO:-0600
TZNAME:CST
DTSTART:20231105T070000
END:STANDARD
BEGIN:DAYLIGHT
TZOFFSETFROM:-0600
TZOFFSETTO:-0500
TZNAME:CDT
DTSTART:20240310T080000
END:DAYLIGHT
BEGIN:STANDARD
TZOFFSETFROM:-0500
TZOFFSETTO:-0600
TZNAME:CST
DTSTART:20241103T070000
END:STANDARD
END:VTIMEZONE
BEGIN:VEVENT
DTSTART;TZID=America/Winnipeg:20230304T083000
DTEND;TZID=America/Winnipeg:20230304T140000
DTSTAMP:20260423T075239
CREATED:20230124T193055Z
LAST-MODIFIED:20230207T183939Z
UID:6467-1677918600-1677938400@snoman.mb.ca
SUMMARY:Vintage Sled\, Show\, Shine and Ride
DESCRIPTION:Our Vintage Sled Show\, Shine\, & Ride will be held on Saturday\, March 4\, 2023. \nEveryone is welcome to attend. \n20-mile ride on a non-designated groomed trail. \n$10 entry fee includes a wiener roast at the bonfire. \nWoodridge Community Centre \n\n\n\n8:30 to 10:00 a.m.\n\nRegistration\n\n\n9 to 11:00 a.m.\n\nPancake Breakfast available\n\n\n9:30 to 10:30 a.m.\n\nShow & Shine\n\n\n11:00 a.m.\n\nTrophies\n\n\n11:30 a.m.\n\nRide\n\n\n12:00 to 2:00 p.m.\n\nWiener Roast (at bonfire)\n\n\n \n\n\n\n\n\nFor presenter details\, email Dave at dboutang@mts.net. \nNet proceeds go to Never Alone Cancer Foundation
URL:https://snoman.mb.ca/event/vintage-sled-show-shine-and-ride/
LOCATION:Woodridge Community Centre
END:VEVENT
END:VCALENDAR